BEGIN:VCALENDAR
VERSION:2.0
PRODID:-//eventon.com NONSGML v1.0//EN
CALSCALE:GREGORIAN
METHOD:PUBLISH
BEGIN:VEVENT
UID:69e4c76308066
DTSTAMP:20260419T121531Z
DTSTART:20260831
DTEND:20260901
LOCATION:
SUMMARY:Balkan - Endless Discovery
DESCRIPTION:\nhttps://road2rally.de/events/balkan-endless-discovery/
URL:https://road2rally.de/events/balkan-endless-discovery/
END:VEVENT
END:VCALENDAR