BEGIN:VCALENDAR
VERSION:2.0
PRODID:-//eventon.com NONSGML v1.0//EN
CALSCALE:GREGORIAN
METHOD:PUBLISH
BEGIN:VEVENT
UID:69e9fa368f895
DTSTAMP:20260423T105342Z
DTSTART:20260808
DTEND:20260809
LOCATION:
SUMMARY:Namibia Roadbook Camp
DESCRIPTION:\nhttps://road2rally.de/events/namibia-roadbook-camp/
URL:https://road2rally.de/events/namibia-roadbook-camp/
END:VEVENT
END:VCALENDAR