BEGIN:VCALENDAR
VERSION:2.0
PRODID:-//eventon.com NONSGML v1.0//EN
CALSCALE:GREGORIAN
METHOD:PUBLISH
BEGIN:VEVENT
UID:69e4e2436088f
DTSTAMP:20260419T141011Z
DTSTART:20260918
DTEND:20260919
LOCATION:Reguengos de Monsaraz
SUMMARY:2026 Bajas European Championship - Portugal
DESCRIPTION:2026 Bajas European Championship\nhttps://road2rally.de/events/
 2026-bajas-european-championship-portugal/
URL:https://road2rally.de/events/2026-bajas-european-championship-portugal/
END:VEVENT
END:VCALENDAR