BEGIN:VCALENDAR
VERSION:2.0
PRODID:-//eventon.com NONSGML v1.0//EN
CALSCALE:GREGORIAN
METHOD:PUBLISH
BEGIN:VEVENT
UID:69e4c70b1cfe4
DTSTAMP:20260419T121403Z
DTSTART:20260712
DTEND:20260713
LOCATION:Colmar
SUMMARY:Roadbooktour Pass_Partout 
DESCRIPTION:\nhttps://road2rally.de/events/roadbooktour-pass_partout/
URL:https://road2rally.de/events/roadbooktour-pass_partout/
END:VEVENT
END:VCALENDAR