BEGIN:VCALENDAR
VERSION:2.0
PRODID:-//eventon.com NONSGML v1.0//EN
CALSCALE:GREGORIAN
METHOD:PUBLISH
BEGIN:VEVENT
UID:69e74d5bf32b5
DTSTAMP:20260421T101139Z
DTSTART:20260507T121400Z
DTEND:20260507T121400Z
LOCATION:GAWRA Guesthouse Łączki 80\,  38-600 Lesko\,  Woiwodschaft Karpatenvorland\,  Polen
SUMMARY:11. Motorrad-Wolfsrudel
DESCRIPTION:\nhttps://road2rally.de/events/11-motorrad-wolfsrudel/
URL:https://road2rally.de/events/11-motorrad-wolfsrudel/
END:VEVENT
END:VCALENDAR