BEGIN:VCALENDAR
VERSION:2.0
PRODID:-//eventon.com NONSGML v1.0//EN
CALSCALE:GREGORIAN
METHOD:PUBLISH
BEGIN:VEVENT
UID:69e7376d13e97
DTSTAMP:20260421T083805Z
DTSTART:20260624T121400Z
DTEND:20260628T121400Z
LOCATION:Hotel Milord Kleszewo 43\,  06-100 Pułtusk
SUMMARY:Nord-Süd-Polen
DESCRIPTION:\nhttps://road2rally.de/events/nord-sued-polen/
URL:https://road2rally.de/events/nord-sued-polen/
END:VEVENT
END:VCALENDAR