BEGIN:VCALENDAR
VERSION:2.0
PRODID:-//eventon.com NONSGML v1.0//EN
CALSCALE:GREGORIAN
METHOD:PUBLISH
BEGIN:VEVENT
UID:69e4c7590d545
DTSTAMP:20260419T121521Z
DTSTART:20261009T155200Z
DTEND:20261018T155200Z
LOCATION:Merzouga
SUMMARY:Rallye Roses des Sables
DESCRIPTION:\nhttps://road2rally.de/events/rallye-roses-des-sables/
URL:https://road2rally.de/events/rallye-roses-des-sables/
END:VEVENT
END:VCALENDAR