BEGIN:VCALENDAR
VERSION:2.0
PRODID:-//eventon.com NONSGML v1.0//EN
CALSCALE:GREGORIAN
METHOD:PUBLISH
BEGIN:VEVENT
UID:69e4f86d06d19
DTSTAMP:20260419T154445Z
DTSTART:20261028
DTEND:20261029
LOCATION:
SUMMARY:Quatar International Baja
DESCRIPTION:\nhttps://road2rally.de/events/quatar-international-baja/
URL:https://road2rally.de/events/quatar-international-baja/
END:VEVENT
END:VCALENDAR