BEGIN:VCALENDAR
VERSION:2.0
PRODID:-//eventon.com NONSGML v1.0//EN
CALSCALE:GREGORIAN
METHOD:PUBLISH
BEGIN:VEVENT
UID:69e4c700ccbf4
DTSTAMP:20260419T121352Z
DTSTART:20260628
DTEND:20260629
LOCATION:Zagan
SUMMARY:Rallye Breslau Poland
DESCRIPTION:\nhttps://road2rally.de/events/rallye-breslau-poland/
URL:https://road2rally.de/events/rallye-breslau-poland/
END:VEVENT
END:VCALENDAR