BEGIN:VCALENDAR
VERSION:2.0
PRODID:-//eventon.com NONSGML v1.0//EN
CALSCALE:GREGORIAN
METHOD:PUBLISH
BEGIN:VEVENT
UID:69e7381931213
DTSTAMP:20260421T084057Z
DTSTART:20261023
DTEND:20261024
LOCATION:Douz
SUMMARY:Fenix Rally
DESCRIPTION:\nhttps://road2rally.de/events/fenix-rally/
URL:https://road2rally.de/events/fenix-rally/
END:VEVENT
END:VCALENDAR