BEGIN:VCALENDAR
VERSION:2.0
PRODID:-//eventon.com NONSGML v1.0//EN
CALSCALE:GREGORIAN
METHOD:PUBLISH
BEGIN:VEVENT
UID:69e7379843f8e
DTSTAMP:20260421T083848Z
DTSTART:20260719
DTEND:20260720
LOCATION:Konjic
SUMMARY:Seeker 2000
DESCRIPTION:\nhttps://road2rally.de/events/seeker-2000/
URL:https://road2rally.de/events/seeker-2000/
END:VEVENT
END:VCALENDAR