BEGIN:VCALENDAR
VERSION:2.0
PRODID:-//eventon.com NONSGML v1.0//EN
CALSCALE:GREGORIAN
METHOD:PUBLISH
BEGIN:VEVENT
UID:69e4c5f3f24da
DTSTAMP:20260419T120923Z
DTSTART:20260509
DTEND:20260510
LOCATION:Bari
SUMMARY:Illyria Raid Spring Edition
DESCRIPTION:\nhttps://road2rally.de/events/illyria-raid-spring-edition/
URL:https://road2rally.de/events/illyria-raid-spring-edition/
END:VEVENT
END:VCALENDAR