BEGIN:VCALENDAR
VERSION:2.0
PRODID:-//eventon.com NONSGML v1.0//EN
CALSCALE:GREGORIAN
METHOD:PUBLISH
BEGIN:VEVENT
UID:69e737b31b75a
DTSTAMP:20260421T083915Z
DTSTART:20270313
DTEND:20270314
LOCATION:Erfoud
SUMMARY:Tuareg Rallye
DESCRIPTION:\nhttps://road2rally.de/events/tuareg-rallye/
URL:https://road2rally.de/events/tuareg-rallye/
END:VEVENT
END:VCALENDAR