BEGIN:VCALENDAR
VERSION:2.0
PRODID:-//eventon.com NONSGML v1.0//EN
CALSCALE:GREGORIAN
METHOD:PUBLISH
BEGIN:VEVENT
UID:69e891a87a3e0
DTSTAMP:20260422T091520Z
DTSTART:20260418
DTEND:20260419
LOCATION:Merzouga
SUMMARY:Carta Rally
DESCRIPTION:\nhttps://road2rally.de/events/carta-rally/
URL:https://road2rally.de/events/carta-rally/
END:VEVENT
END:VCALENDAR