BEGIN:VCALENDAR
VERSION:2.0
PRODID:-//eventon.com NONSGML v1.0//EN
CALSCALE:GREGORIAN
METHOD:PUBLISH
BEGIN:VEVENT
UID:69e4c63f6239f
DTSTAMP:20260419T121039Z
DTSTART:20260909
DTEND:20260910
LOCATION:Wentworth Shire
SUMMARY:Sunraysia Safari Cross Country Rally
DESCRIPTION:\nhttps://road2rally.de/events/sunraysia-safari-cross-country-r
 ally/
URL:https://road2rally.de/events/sunraysia-safari-cross-country-rally/
END:VEVENT
END:VCALENDAR