BEGIN:VCALENDAR
VERSION:2.0
PRODID:-//eventon.com NONSGML v1.0//EN
CALSCALE:GREGORIAN
METHOD:PUBLISH
BEGIN:VEVENT
UID:69e737057e043
DTSTAMP:20260421T083621Z
DTSTART:20261001
DTEND:20261002
LOCATION:Budoni
SUMMARY:24th SARDEGNA LEGEND RALLY
DESCRIPTION:\nhttps://road2rally.de/events/24th-sardegna-legend-rally/
URL:https://road2rally.de/events/24th-sardegna-legend-rally/
END:VEVENT
END:VCALENDAR