BEGIN:VCALENDAR
VERSION:2.0
PRODID:-//eventon.com NONSGML v1.0//EN
CALSCALE:GREGORIAN
METHOD:PUBLISH
BEGIN:VEVENT
UID:69e9e2247c7e8
DTSTAMP:20260423T091100Z
DTSTART:20260620
DTEND:20260621
LOCATION:Hormersdorf
SUMMARY:1000 Km durch Deutschland
DESCRIPTION:\nhttps://road2rally.de/events/1000-km-durch-deutschland/
URL:https://road2rally.de/events/1000-km-durch-deutschland/
END:VEVENT
END:VCALENDAR