BEGIN:VCALENDAR
VERSION:2.0
PRODID:-//eventon.com NONSGML v1.0//EN
CALSCALE:GREGORIAN
METHOD:PUBLISH
BEGIN:VEVENT
UID:69e7373a72cd1
DTSTAMP:20260421T083714Z
DTSTART:20260905
DTEND:20260906
LOCATION:MSC SChefflenz 74850 Schefflenz
SUMMARY:GCC - Schefflenz
DESCRIPTION:\nhttps://road2rally.de/events/gcc-schefflenz/
URL:https://road2rally.de/events/gcc-schefflenz/
END:VEVENT
END:VCALENDAR