BEGIN:VCALENDAR
VERSION:2.0
PRODID:-//eventon.com NONSGML v1.0//EN
CALSCALE:GREGORIAN
METHOD:PUBLISH
BEGIN:VEVENT
UID:69e737487ff08
DTSTAMP:20260421T083728Z
DTSTART:20260516
DTEND:20260517
LOCATION:MSC SChwabhausen Grund\,  99869 Schwabhausen
SUMMARY:GCC - Schwabhausen
DESCRIPTION:\nhttps://road2rally.de/events/gcc-schwabhausen/
URL:https://road2rally.de/events/gcc-schwabhausen/
END:VEVENT
END:VCALENDAR