BEGIN:VCALENDAR
VERSION:2.0
PRODID:-//eventon.com NONSGML v1.0//EN
CALSCALE:GREGORIAN
METHOD:PUBLISH
BEGIN:VEVENT
UID:69e4c66846a48
DTSTAMP:20260419T121120Z
DTSTART:20260926
DTEND:20260927
LOCATION:MSC Goldbach 63773 Goldbach
SUMMARY:GCC - Bühlertann
DESCRIPTION:\nhttps://road2rally.de/events/gcc-goldbach/
URL:https://road2rally.de/events/gcc-goldbach/
END:VEVENT
END:VCALENDAR