BEGIN:VCALENDAR
VERSION:2.0
PRODID:-//eventon.com NONSGML v1.0//EN
CALSCALE:GREGORIAN
METHOD:PUBLISH
BEGIN:VEVENT
UID:69e4c6bba46da
DTSTAMP:20260419T121243Z
DTSTART:20260430
DTEND:20260501
LOCATION:Montesilvano
SUMMARY:Sterrare E' Umano Trophy
DESCRIPTION:\nhttps://road2rally.de/events/sterrare-e-umano-trophy/
URL:https://road2rally.de/events/sterrare-e-umano-trophy/
END:VEVENT
END:VCALENDAR