BEGIN:VCALENDAR
VERSION:2.0
PRODID:-//eventon.com NONSGML v1.0//EN
CALSCALE:GREGORIAN
METHOD:PUBLISH
BEGIN:VEVENT
UID:69e73863b00da
DTSTAMP:20260421T084211Z
DTSTART:20260612
DTEND:20260613
LOCATION:Valle Del Sillaro
SUMMARY:Calanchi Trophy 
DESCRIPTION:\nhttps://road2rally.de/events/calanchi-trophy/
URL:https://road2rally.de/events/calanchi-trophy/
END:VEVENT
END:VCALENDAR