BEGIN:VCALENDAR
VERSION:2.0
PRODID:-//eventon.com NONSGML v1.0//EN
CALSCALE:GREGORIAN
METHOD:PUBLISH
BEGIN:VEVENT
UID:69e736a18d3d7
DTSTAMP:20260421T083441Z
DTSTART:20260328
DTEND:20260329
LOCATION:Via Costabella
SUMMARY:Rally Del Garda
DESCRIPTION:\nhttps://road2rally.de/events/rally-del-garda/
URL:https://road2rally.de/events/rally-del-garda/
END:VEVENT
END:VCALENDAR