BEGIN:VCALENDAR
VERSION:2.0
PRODID:-//eventon.com NONSGML v1.0//EN
CALSCALE:GREGORIAN
METHOD:PUBLISH
BEGIN:VEVENT
UID:69e7380161852
DTSTAMP:20260421T084033Z
DTSTART:20260426
DTEND:20260427
LOCATION:Costermano sul Garda
SUMMARY:CLASSIC BIKE Lago di Garda
DESCRIPTION:\nhttps://road2rally.de/events/classic-bike-lago-di-garda/
URL:https://road2rally.de/events/classic-bike-lago-di-garda/
END:VEVENT
END:VCALENDAR