BEGIN:VCALENDAR
VERSION:2.0
PRODID:-//eventon.com NONSGML v1.0//EN
CALSCALE:GREGORIAN
METHOD:PUBLISH
BEGIN:VEVENT
UID:69e4e06c25043
DTSTAMP:20260419T140220Z
DTSTART:20260608
DTEND:20260609
LOCATION:Whipsnade Heath Car Park Common Road\,  Whipsnade\,  Dunstable LU6 2PZ
SUMMARY:THE ESTRELA ADVENTURE RALLY TOUR
DESCRIPTION:\nhttps://road2rally.de/events/hertford-adventure-rally-raid/
URL:https://road2rally.de/events/hertford-adventure-rally-raid/
END:VEVENT
END:VCALENDAR