BEGIN:VCALENDAR
VERSION:2.0
PRODID:-//eventon.com NONSGML v1.0//EN
CALSCALE:GREGORIAN
METHOD:PUBLISH
BEGIN:VEVENT
UID:69e4c69d6b14d
DTSTAMP:20260419T121213Z
DTSTART:20260619
DTEND:20260620
LOCATION:
SUMMARY:Baja TT Dehesa Extremadura
DESCRIPTION:\nhttps://road2rally.de/events/baja-tt-dehesa-extremadura/
URL:https://road2rally.de/events/baja-tt-dehesa-extremadura/
END:VEVENT
END:VCALENDAR