BEGIN:VCALENDAR
VERSION:2.0
PRODID:-//eventon.com NONSGML v1.0//EN
CALSCALE:GREGORIAN
METHOD:PUBLISH
BEGIN:VEVENT
UID:69e4de6434e29
DTSTAMP:20260419T135340Z
DTSTART:20261105
DTEND:20261106
LOCATION:Hail
SUMMARY:Dubai International Baja
DESCRIPTION:\nhttps://road2rally.de/events/dubai-international-baja/
URL:https://road2rally.de/events/dubai-international-baja/
END:VEVENT
END:VCALENDAR