BEGIN:VCALENDAR
VERSION:2.0
PRODID:-//eventon.com NONSGML v1.0//EN
CALSCALE:GREGORIAN
METHOD:PUBLISH
BEGIN:VEVENT
UID:69e738969870d
DTSTAMP:20260421T084302Z
DTSTART:20260421
DTEND:20260422
LOCATION:Foum-Zguid
SUMMARY:Classic Merzouga 1000
DESCRIPTION:\nhttps://road2rally.de/events/classic-merzouga-1000/
URL:https://road2rally.de/events/classic-merzouga-1000/
END:VEVENT
END:VCALENDAR