BEGIN:VCALENDAR
VERSION:2.0
PRODID:-//eventon.com NONSGML v1.0//EN
CALSCALE:GREGORIAN
METHOD:PUBLISH
BEGIN:VEVENT
UID:69e4c5e9f1394
DTSTAMP:20260419T120913Z
DTSTART:20261003
DTEND:20261004
LOCATION:Fuente de Cantos
SUMMARY:XTREM 300
DESCRIPTION:\nhttps://road2rally.de/events/xtrem-300-2/
URL:https://road2rally.de/events/xtrem-300-2/
END:VEVENT
END:VCALENDAR