BEGIN:VCALENDAR
VERSION:2.0
PRODID:-//eventon.com NONSGML v1.0//EN
CALSCALE:GREGORIAN
METHOD:PUBLISH
BEGIN:VEVENT
UID:69e7393db0715
DTSTAMP:20260421T084549Z
DTSTART:20261121
DTEND:20261122
LOCATION:Villel
SUMMARY:XTREM 300
DESCRIPTION:\nhttps://road2rally.de/events/xtrem-300-3/
URL:https://road2rally.de/events/xtrem-300-3/
END:VEVENT
END:VCALENDAR