BEGIN:VCALENDAR
VERSION:2.0
PRODID:-//eventon.com NONSGML v1.0//EN
CALSCALE:GREGORIAN
METHOD:PUBLISH
BEGIN:VEVENT
UID:69e73720c3b3e
DTSTAMP:20260421T083648Z
DTSTART:20260417
DTEND:20260418
LOCATION:Freila
SUMMARY:Baza 500 RAID
DESCRIPTION:\nhttps://road2rally.de/events/baza-500-raid/
URL:https://road2rally.de/events/baza-500-raid/
END:VEVENT
END:VCALENDAR