BEGIN:VCALENDAR
VERSION:2.0
PRODID:-//eventon.com NONSGML v1.0//EN
CALSCALE:GREGORIAN
METHOD:PUBLISH
BEGIN:VEVENT
UID:69e4de3f82f7d
DTSTAMP:20260419T135303Z
DTSTART:20261016
DTEND:20261017
LOCATION:Teruel
SUMMARY:EutichesBook Offroad 2025
DESCRIPTION:\nhttps://road2rally.de/events/eutichesbook-offroad-2025/
URL:https://road2rally.de/events/eutichesbook-offroad-2025/
END:VEVENT
END:VCALENDAR