BEGIN:VCALENDAR
VERSION:2.0
PRODID:-//eventon.com NONSGML v1.0//EN
CALSCALE:GREGORIAN
METHOD:PUBLISH
BEGIN:VEVENT
UID:69e4c69868f7a
DTSTAMP:20260419T121208Z
DTSTART:20261107
DTEND:20261108
LOCATION:Tunesien
SUMMARY:SANDRAIDERS TUNISIA
DESCRIPTION:\nhttps://road2rally.de/events/sandraiders-tunisia/
URL:https://road2rally.de/events/sandraiders-tunisia/
END:VEVENT
END:VCALENDAR