BEGIN:VCALENDAR
VERSION:2.0
PRODID:-//eventon.com NONSGML v1.0//EN
CALSCALE:GREGORIAN
METHOD:PUBLISH
BEGIN:VEVENT
UID:69e4c6946d4f2
DTSTAMP:20260419T121204Z
DTSTART:20260918
DTEND:20260919
LOCATION:Vielha
SUMMARY:Rodibook
DESCRIPTION:\nhttps://road2rally.de/events/rodibook/
URL:https://road2rally.de/events/rodibook/
END:VEVENT
END:VCALENDAR