BEGIN:VCALENDAR
VERSION:2.0
PRODID:-//eventon.com NONSGML v1.0//EN
CALSCALE:GREGORIAN
METHOD:PUBLISH
BEGIN:VEVENT
UID:69e4c59ff3ed8
DTSTAMP:20260419T120759Z
DTSTART:20260702
DTEND:20260703
LOCATION:Zarrentin
SUMMARY:Roadbooktour Mecklenburg
DESCRIPTION:\nhttps://road2rally.de/events/roadbooktour-mecklenburg-2/
URL:https://road2rally.de/events/roadbooktour-mecklenburg-2/
END:VEVENT
END:VCALENDAR