BEGIN:VCALENDAR
VERSION:2.0
PRODID:-//eventon.com NONSGML v1.0//EN
CALSCALE:GREGORIAN
METHOD:PUBLISH
BEGIN:VEVENT
UID:69e4c59fe0b80
DTSTAMP:20260419T120759Z
DTSTART:20260528
DTEND:20260529
LOCATION:Colmar
SUMMARY:Roadbooktour Vogesen
DESCRIPTION:\nhttps://road2rally.de/events/roadbooktour-mecklenburg-4/
URL:https://road2rally.de/events/roadbooktour-mecklenburg-4/
END:VEVENT
END:VCALENDAR