BEGIN:VCALENDAR
VERSION:2.0
PRODID:-//eventon.com NONSGML v1.0//EN
CALSCALE:GREGORIAN
METHOD:PUBLISH
BEGIN:VEVENT
UID:69e4c63567a15
DTSTAMP:20260419T121029Z
DTSTART:20260913
DTEND:20260914
LOCATION:Colmar
SUMMARY:Roadbooktour Vogesen
DESCRIPTION:\nhttps://road2rally.de/events/roadbooktour-vogesen/
URL:https://road2rally.de/events/roadbooktour-vogesen/
END:VEVENT
END:VCALENDAR