BEGIN:VCALENDAR
VERSION:2.0
PRODID:-//eventon.com NONSGML v1.0//EN
CALSCALE:GREGORIAN
METHOD:PUBLISH
BEGIN:VEVENT
UID:69e4c67a2b6a0
DTSTAMP:20260419T121138Z
DTSTART:20260614
DTEND:20260615
LOCATION:Tolmezzo
SUMMARY:Roadbooktour Dolomiten
DESCRIPTION:\nhttps://road2rally.de/events/roadbooktour-dolomiten/
URL:https://road2rally.de/events/roadbooktour-dolomiten/
END:VEVENT
END:VCALENDAR