BEGIN:VCALENDAR
VERSION:2.0
PRODID:-//eventon.com NONSGML v1.0//EN
CALSCALE:GREGORIAN
METHOD:PUBLISH
BEGIN:VEVENT
UID:69e4c754a1ecc
DTSTAMP:20260419T121516Z
DTSTART:20260418
DTEND:20260419
LOCATION:Saint-Antoine
SUMMARY:Roadbooktour Gascogne
DESCRIPTION:\nhttps://road2rally.de/events/roadbooktour-gascogne/
URL:https://road2rally.de/events/roadbooktour-gascogne/
END:VEVENT
END:VCALENDAR