BEGIN:VCALENDAR
VERSION:2.0
PRODID:-//eventon.com NONSGML v1.0//EN
CALSCALE:GREGORIAN
METHOD:PUBLISH
BEGIN:VEVENT
UID:69e4e1c55cc07
DTSTAMP:20260419T140805Z
DTSTART:20261025T185800Z
DTEND:20261030T185800Z
LOCATION:Merzouga
SUMMARY:Addax Rally
DESCRIPTION:\nhttps://road2rally.de/events/addax-rally/
URL:https://road2rally.de/events/addax-rally/
END:VEVENT
END:VCALENDAR